Package: OpenStats Version: 1.20.0 Command: /Library/Frameworks/R.framework/Resources/bin/R CMD INSTALL OpenStats StartedAt: 2025-10-13 15:27:31 -0400 (Mon, 13 Oct 2025) EndedAt: 2025-10-13 15:27:51 -0400 (Mon, 13 Oct 2025) EllapsedTime: 20.0 seconds RetCode: 0 Status: OK