Package: OpenStats Version: 1.20.0 Command: /Library/Frameworks/R.framework/Resources/bin/R CMD build --keep-empty-dirs --no-resave-data OpenStats StartedAt: 2025-10-14 06:00:33 -0400 (Tue, 14 Oct 2025) EndedAt: 2025-10-14 06:01:09 -0400 (Tue, 14 Oct 2025) EllapsedTime: 36.6 seconds RetCode: 0 Status: OK PackageFile: OpenStats_1.20.0.tar.gz PackageFileSize: 600.7 KiB