Package: OncoSimulR Version: 4.10.0 Command: /home/biocbuild/bbs-3.21-bioc/R/bin/R CMD INSTALL OncoSimulR StartedAt: 2025-10-15 15:14:16 -0400 (Wed, 15 Oct 2025) EndedAt: 2025-10-15 15:16:50 -0400 (Wed, 15 Oct 2025) EllapsedTime: 153.6 seconds RetCode: 0 Status: OK