Package: OncoSimulR Version: 4.10.0 Command: /home/biocbuild/R/R/bin/R CMD INSTALL OncoSimulR StartedAt: 2025-10-13 20:26:44 -0000 (Mon, 13 Oct 2025) EndedAt: 2025-10-13 20:30:57 -0000 (Mon, 13 Oct 2025) EllapsedTime: 252.6 seconds RetCode: 0 Status: OK