Package: OncoSimulR Version: 4.10.0 Command: /home/biocbuild/R/R/bin/R CMD build --keep-empty-dirs --no-resave-data OncoSimulR StartedAt: 2025-10-14 03:12:57 -0000 (Tue, 14 Oct 2025) EndedAt: 2025-10-14 03:25:07 -0000 (Tue, 14 Oct 2025) EllapsedTime: 730.3 seconds RetCode: 0 Status: OK PackageFile: OncoSimulR_4.10.0.tar.gz PackageFileSize: 7.978 MiB