Package: OncoScore Version: 1.36.0 Command: /home/biocbuild/bbs-3.21-bioc/R/bin/R CMD INSTALL OncoScore StartedAt: 2025-10-15 15:58:07 -0400 (Wed, 15 Oct 2025) EndedAt: 2025-10-15 15:58:21 -0400 (Wed, 15 Oct 2025) EllapsedTime: 13.6 seconds RetCode: 0 Status: OK