Package: OncoScore Version: 1.36.0 Command: /home/biocbuild/R/R/bin/R CMD INSTALL OncoScore StartedAt: 2025-10-13 21:17:04 -0000 (Mon, 13 Oct 2025) EndedAt: 2025-10-13 21:17:24 -0000 (Mon, 13 Oct 2025) EllapsedTime: 19.6 seconds RetCode: 0 Status: OK