Package: OncoScore Version: 1.36.0 Command: /home/biocbuild/R/R/bin/R CMD build --keep-empty-dirs --no-resave-data OncoScore StartedAt: 2025-10-14 03:12:43 -0000 (Tue, 14 Oct 2025) EndedAt: 2025-10-14 03:15:01 -0000 (Tue, 14 Oct 2025) EllapsedTime: 138.3 seconds RetCode: 0 Status: OK PackageFile: OncoScore_1.36.0.tar.gz PackageFileSize: 1014 KiB