Package: OncoScore Version: 1.36.0 Command: /Library/Frameworks/R.framework/Resources/bin/R CMD INSTALL OncoScore StartedAt: 2025-10-13 18:29:16 -0400 (Mon, 13 Oct 2025) EndedAt: 2025-10-13 18:29:33 -0400 (Mon, 13 Oct 2025) EllapsedTime: 16.6 seconds RetCode: 0 Status: OK