Package: OncoScore Version: 1.36.0 Command: /Library/Frameworks/R.framework/Resources/bin/R CMD build --keep-empty-dirs --no-resave-data OncoScore StartedAt: 2025-10-14 05:57:38 -0400 (Tue, 14 Oct 2025) EndedAt: 2025-10-14 05:58:55 -0400 (Tue, 14 Oct 2025) EllapsedTime: 76.6 seconds RetCode: 0 Status: OK PackageFile: OncoScore_1.36.0.tar.gz PackageFileSize: 915.7 KiB