Package: OmicsMLRepoR Version: 1.2.0 Command: /home/biocbuild/bbs-3.21-bioc/R/bin/R CMD INSTALL OmicsMLRepoR StartedAt: 2025-10-15 15:13:35 -0400 (Wed, 15 Oct 2025) EndedAt: 2025-10-15 15:13:42 -0400 (Wed, 15 Oct 2025) EllapsedTime: 7.0 seconds RetCode: 0 Status: OK