Package: OmicsMLRepoR Version: 1.2.0 Command: /home/biocbuild/bbs-3.21-bioc/R/bin/R CMD build --keep-empty-dirs --no-resave-data OmicsMLRepoR StartedAt: 2025-10-15 18:55:46 -0400 (Wed, 15 Oct 2025) EndedAt: 2025-10-15 18:57:10 -0400 (Wed, 15 Oct 2025) EllapsedTime: 84.1 seconds RetCode: 0 Status: OK PackageFile: OmicsMLRepoR_1.2.0.tar.gz PackageFileSize: 435.8 KiB