Package: OmicsMLRepoR Version: 1.2.0 Command: /Library/Frameworks/R.framework/Resources/bin/R CMD build --keep-empty-dirs --no-resave-data OmicsMLRepoR StartedAt: 2025-10-13 21:13:42 -0400 (Mon, 13 Oct 2025) EndedAt: 2025-10-13 21:16:21 -0400 (Mon, 13 Oct 2025) EllapsedTime: 158.4 seconds RetCode: 0 Status: OK PackageFile: OmicsMLRepoR_1.2.0.tar.gz PackageFileSize: 435.7 KiB