Package: OmicsMLRepoR Version: 1.2.0 Command: /home/biocbuild/R/R/bin/R CMD build --keep-empty-dirs --no-resave-data OmicsMLRepoR StartedAt: 2025-10-14 03:09:46 -0000 (Tue, 14 Oct 2025) EndedAt: 2025-10-14 03:12:59 -0000 (Tue, 14 Oct 2025) EllapsedTime: 193.3 seconds RetCode: 0 Status: OK PackageFile: OmicsMLRepoR_1.2.0.tar.gz PackageFileSize: 462.3 KiB