Package: OmicsMLRepoR Version: 1.2.0 Command: /Library/Frameworks/R.framework/Resources/bin/R CMD build --keep-empty-dirs --no-resave-data OmicsMLRepoR StartedAt: 2025-10-14 05:53:27 -0400 (Tue, 14 Oct 2025) EndedAt: 2025-10-14 05:55:15 -0400 (Tue, 14 Oct 2025) EllapsedTime: 107.7 seconds RetCode: 0 Status: OK PackageFile: OmicsMLRepoR_1.2.0.tar.gz PackageFileSize: 435.8 KiB