Package: OUTRIDER Version: 1.26.3 Command: /home/biocbuild/R/R/bin/R CMD build --keep-empty-dirs --no-resave-data OUTRIDER StartedAt: 2025-10-14 03:17:53 -0000 (Tue, 14 Oct 2025) EndedAt: 2025-10-14 03:32:39 -0000 (Tue, 14 Oct 2025) EllapsedTime: 885.6 seconds RetCode: 0 Status: OK PackageFile: OUTRIDER_1.26.3.tar.gz PackageFileSize: 2.474 MiB