Package: OTUbase Version: 1.58.0 Command: /home/biocbuild/R/R/bin/R CMD INSTALL OTUbase StartedAt: 2025-10-13 21:08:51 -0000 (Mon, 13 Oct 2025) EndedAt: 2025-10-13 21:09:35 -0000 (Mon, 13 Oct 2025) EllapsedTime: 44.0 seconds RetCode: 0 Status: OK