Package: OTUbase Version: 1.58.0 Command: /home/biocbuild/R/R/bin/R CMD build --keep-empty-dirs --no-resave-data OTUbase StartedAt: 2025-10-14 03:17:26 -0000 (Tue, 14 Oct 2025) EndedAt: 2025-10-14 03:19:38 -0000 (Tue, 14 Oct 2025) EllapsedTime: 132.1 seconds RetCode: 0 Status: OK PackageFile: OTUbase_1.58.0.tar.gz PackageFileSize: 175.8 KiB