Package: OSAT Version: 1.56.0 Command: /Library/Frameworks/R.framework/Resources/bin/R CMD build --keep-empty-dirs --no-resave-data OSAT StartedAt: 2025-10-13 21:18:24 -0400 (Mon, 13 Oct 2025) EndedAt: 2025-10-13 21:20:27 -0400 (Mon, 13 Oct 2025) EllapsedTime: 123.1 seconds RetCode: 0 Status: OK PackageFile: OSAT_1.56.0.tar.gz PackageFileSize: 958.9 KiB