Package: OSAT Version: 1.56.0 Command: rm -rf OSAT.buildbin-libdir && mkdir OSAT.buildbin-libdir && /Users/biocbuild/BBS/utils/build-universal.sh OSAT_1.56.0.tar.gz /Library/Frameworks/R.framework/Resources/bin/R OSAT.buildbin-libdir StartedAt: 2025-10-14 14:19:20 -0400 (Tue, 14 Oct 2025) EndedAt: 2025-10-14 14:19:31 -0400 (Tue, 14 Oct 2025) EllapsedTime: 11.5 seconds RetCode: 0 Status: OK PackageFile: OSAT_1.56.0.tgz PackageFileSize: 646.7 KiB