Package: OSAT Version: 1.56.0 Command: /home/biocbuild/R/R/bin/R CMD build --keep-empty-dirs --no-resave-data OSAT StartedAt: 2025-10-14 03:16:43 -0000 (Tue, 14 Oct 2025) EndedAt: 2025-10-14 03:18:08 -0000 (Tue, 14 Oct 2025) EllapsedTime: 84.9 seconds RetCode: 0 Status: OK PackageFile: OSAT_1.56.0.tar.gz PackageFileSize: 952.7 KiB