Package: OSAT Version: 1.56.0 Command: /Library/Frameworks/R.framework/Resources/bin/R CMD INSTALL OSAT StartedAt: 2025-10-13 15:07:40 -0400 (Mon, 13 Oct 2025) EndedAt: 2025-10-13 15:07:46 -0400 (Mon, 13 Oct 2025) EllapsedTime: 5.7 seconds RetCode: 0 Status: OK