Package: ORFik Version: 1.28.3 Command: /home/biocbuild/R/R/bin/R CMD INSTALL ORFik StartedAt: 2025-10-13 20:54:59 -0000 (Mon, 13 Oct 2025) EndedAt: 2025-10-13 20:56:52 -0000 (Mon, 13 Oct 2025) EllapsedTime: 112.3 seconds RetCode: 0 Status: OK