Package: ORFik Version: 1.28.3 Command: /home/biocbuild/R/R/bin/R CMD build --keep-empty-dirs --no-resave-data ORFik StartedAt: 2025-10-14 03:15:11 -0000 (Tue, 14 Oct 2025) EndedAt: 2025-10-14 03:55:11 -0000 (Tue, 14 Oct 2025) EllapsedTime: 2400.1 seconds RetCode: None Status: TIMEOUT PackageFile: None PackageFileSize: NA