Package: OMICsPCA Version: 1.26.0 Command: /home/biocbuild/R/R/bin/R CMD INSTALL OMICsPCA StartedAt: 2025-10-13 21:11:48 -0000 (Mon, 13 Oct 2025) EndedAt: 2025-10-13 21:13:00 -0000 (Mon, 13 Oct 2025) EllapsedTime: 71.9 seconds RetCode: 0 Status: OK