Package: NormqPCR Version: 1.54.0 Command: /home/biocbuild/bbs-3.21-bioc/R/bin/R CMD INSTALL NormqPCR StartedAt: 2025-10-15 15:12:27 -0400 (Wed, 15 Oct 2025) EndedAt: 2025-10-15 15:12:36 -0400 (Wed, 15 Oct 2025) EllapsedTime: 8.9 seconds RetCode: 0 Status: OK