Package: NormqPCR Version: 1.54.0 Command: /home/biocbuild/R/R/bin/R CMD build --keep-empty-dirs --no-resave-data NormqPCR StartedAt: 2025-10-14 03:06:04 -0000 (Tue, 14 Oct 2025) EndedAt: 2025-10-14 03:06:31 -0000 (Tue, 14 Oct 2025) EllapsedTime: 27.0 seconds RetCode: 0 Status: OK PackageFile: NormqPCR_1.54.0.tar.gz PackageFileSize: 407.8 KiB