Package: NetSAM Version: 1.48.0 Command: /home/biocbuild/R/R/bin/R CMD INSTALL NetSAM StartedAt: 2025-10-13 21:04:56 -0000 (Mon, 13 Oct 2025) EndedAt: 2025-10-13 21:05:31 -0000 (Mon, 13 Oct 2025) EllapsedTime: 35.5 seconds RetCode: 0 Status: OK