Package: NetSAM Version: 1.48.0 Command: /Library/Frameworks/R.framework/Resources/bin/R CMD build --keep-empty-dirs --no-resave-data NetSAM StartedAt: 2025-10-14 05:40:36 -0400 (Tue, 14 Oct 2025) EndedAt: 2025-10-14 05:41:44 -0400 (Tue, 14 Oct 2025) EllapsedTime: 68.5 seconds RetCode: 0 Status: OK PackageFile: NetSAM_1.48.0.tar.gz PackageFileSize: 1.033 MiB