Package: NetSAM Version: 1.48.0 Command: rm -rf NetSAM.buildbin-libdir && mkdir NetSAM.buildbin-libdir && /Users/biocbuild/BBS/utils/build-universal.sh NetSAM_1.48.0.tar.gz /Library/Frameworks/R.framework/Resources/bin/R NetSAM.buildbin-libdir StartedAt: 2025-10-15 19:36:41 -0400 (Wed, 15 Oct 2025) EndedAt: 2025-10-15 19:37:13 -0400 (Wed, 15 Oct 2025) EllapsedTime: 31.4 seconds RetCode: 0 Status: OK PackageFile: NetSAM_1.48.0.tgz PackageFileSize: 1.232 MiB