Package: NetPathMiner Version: 1.44.0 Command: /home/biocbuild/bbs-3.21-bioc/R/bin/R CMD INSTALL NetPathMiner StartedAt: 2025-10-15 15:05:05 -0400 (Wed, 15 Oct 2025) EndedAt: 2025-10-15 15:05:22 -0400 (Wed, 15 Oct 2025) EllapsedTime: 17.3 seconds RetCode: 0 Status: OK