Package: NetPathMiner Version: 1.44.0 Command: /home/biocbuild/R/R/bin/R CMD INSTALL NetPathMiner StartedAt: 2025-10-13 20:16:14 -0000 (Mon, 13 Oct 2025) EndedAt: 2025-10-13 20:16:34 -0000 (Mon, 13 Oct 2025) EllapsedTime: 20.2 seconds RetCode: 0 Status: OK