Package: NetPathMiner Version: 1.44.0 Command: /home/biocbuild/R/R/bin/R CMD build --keep-empty-dirs --no-resave-data NetPathMiner StartedAt: 2025-10-14 03:03:46 -0000 (Tue, 14 Oct 2025) EndedAt: 2025-10-14 03:04:21 -0000 (Tue, 14 Oct 2025) EllapsedTime: 35.0 seconds RetCode: 0 Status: OK PackageFile: NetPathMiner_1.44.0.tar.gz PackageFileSize: 2.265 MiB