Package: NetPathMiner Version: 1.44.0 Command: /Library/Frameworks/R.framework/Resources/bin/R CMD INSTALL NetPathMiner StartedAt: 2025-10-13 15:16:51 -0400 (Mon, 13 Oct 2025) EndedAt: 2025-10-13 15:17:11 -0400 (Mon, 13 Oct 2025) EllapsedTime: 19.9 seconds RetCode: 0 Status: OK