Package: NetActivity Version: 1.10.0 Command: /home/biocbuild/R/R/bin/R CMD build --keep-empty-dirs --no-resave-data NetActivity StartedAt: 2025-10-14 03:02:40 -0000 (Tue, 14 Oct 2025) EndedAt: 2025-10-14 03:04:07 -0000 (Tue, 14 Oct 2025) EllapsedTime: 87.1 seconds RetCode: 0 Status: OK PackageFile: NetActivity_1.10.0.tar.gz PackageFileSize: 481 KiB