Package: NetActivity Version: 1.10.0 Command: rm -rf NetActivity.buildbin-libdir && mkdir NetActivity.buildbin-libdir && /Users/biocbuild/BBS/utils/build-universal.sh NetActivity_1.10.0.tar.gz /Library/Frameworks/R.framework/Resources/bin/R NetActivity.buildbin-libdir StartedAt: 2025-10-15 19:35:48 -0400 (Wed, 15 Oct 2025) EndedAt: 2025-10-15 19:36:20 -0400 (Wed, 15 Oct 2025) EllapsedTime: 32.5 seconds RetCode: 0 Status: OK PackageFile: NetActivity_1.10.0.tgz PackageFileSize: 447.5 KiB