Package: NanoStringNCTools Version: 1.16.2 Command: /Library/Frameworks/R.framework/Resources/bin/R CMD INSTALL NanoStringNCTools StartedAt: 2025-10-13 15:28:06 -0400 (Mon, 13 Oct 2025) EndedAt: 2025-10-13 15:28:50 -0400 (Mon, 13 Oct 2025) EllapsedTime: 43.8 seconds RetCode: 0 Status: OK