Package: NanoStringNCTools Version: 1.16.2 Command: /Library/Frameworks/R.framework/Resources/bin/R CMD build --keep-empty-dirs --no-resave-data NanoStringNCTools StartedAt: 2025-10-13 21:03:34 -0400 (Mon, 13 Oct 2025) EndedAt: 2025-10-13 21:04:54 -0400 (Mon, 13 Oct 2025) EllapsedTime: 80.0 seconds RetCode: 0 Status: OK PackageFile: NanoStringNCTools_1.16.2.tar.gz PackageFileSize: 505.7 KiB