Package: NanoStringNCTools Version: 1.16.2 Command: rm -rf NanoStringNCTools.buildbin-libdir && mkdir NanoStringNCTools.buildbin-libdir && /Users/biocbuild/BBS/utils/build-universal.sh NanoStringNCTools_1.16.2.tar.gz /Library/Frameworks/R.framework/Resources/bin/R NanoStringNCTools.buildbin-libdir StartedAt: 2025-10-14 14:14:38 -0400 (Tue, 14 Oct 2025) EndedAt: 2025-10-14 14:15:32 -0400 (Tue, 14 Oct 2025) EllapsedTime: 54.0 seconds RetCode: 0 Status: OK PackageFile: NanoStringNCTools_1.16.2.tgz PackageFileSize: 1.048 MiB