Package: NanoStringNCTools Version: 1.16.2 Command: /home/biocbuild/R/R/bin/R CMD INSTALL NanoStringNCTools StartedAt: 2025-10-13 20:27:55 -0000 (Mon, 13 Oct 2025) EndedAt: 2025-10-13 20:28:20 -0000 (Mon, 13 Oct 2025) EllapsedTime: 25.0 seconds RetCode: 0 Status: OK