Package: NanoStringNCTools Version: 1.16.2 Command: /home/biocbuild/R/R/bin/R CMD build --keep-empty-dirs --no-resave-data NanoStringNCTools StartedAt: 2025-10-14 02:59:18 -0000 (Tue, 14 Oct 2025) EndedAt: 2025-10-14 02:59:59 -0000 (Tue, 14 Oct 2025) EllapsedTime: 41.0 seconds RetCode: 1 Status: ERROR PackageFile: None PackageFileSize: NA