Package: NanoStringNCTools Version: 1.15.0 Command: rm -rf NanoStringNCTools.buildbin-libdir && mkdir NanoStringNCTools.buildbin-libdir && /Users/biocbuild/BBS/utils/build-universal.sh NanoStringNCTools_1.15.0.tar.gz /Library/Frameworks/R.framework/Resources/bin/R NanoStringNCTools.buildbin-libdir StartedAt: 2025-04-09 22:51:02 -0400 (Wed, 09 Apr 2025) EndedAt: 2025-04-09 22:51:09 -0400 (Wed, 09 Apr 2025) EllapsedTime: 7.1 seconds RetCode: 0 Status: OK PackageFile: NanoStringNCTools_1.15.0.tgz PackageFileSize: 945.6 KiB