Package: NanoStringNCTools Version: 1.16.2 Command: rm -rf NanoStringNCTools.buildbin-libdir && mkdir NanoStringNCTools.buildbin-libdir && /Users/biocbuild/BBS/utils/build-universal.sh NanoStringNCTools_1.16.2.tar.gz /Library/Frameworks/R.framework/Resources/bin/R NanoStringNCTools.buildbin-libdir StartedAt: 2025-10-15 19:34:47 -0400 (Wed, 15 Oct 2025) EndedAt: 2025-10-15 19:35:11 -0400 (Wed, 15 Oct 2025) EllapsedTime: 23.7 seconds RetCode: 0 Status: OK PackageFile: NanoStringNCTools_1.16.2.tgz PackageFileSize: 1.048 MiB