Package: NanoStringNCTools Version: 1.16.2 Maintainer: Maddy Griswold MaintainerEmail: mgriswold at nanostring.com git_url: https://git.bioconductor.org/packages/NanoStringNCTools git_branch: RELEASE_3_21 git_last_commit: ea0845f git_last_commit_date: 2025-09-29 14:08:25 -0400 (Mon, 29 Sep 2025)