Package: NanoStringDiff Version: 1.38.0 Command: /home/biocbuild/bbs-3.21-bioc/R/bin/R CMD check --install=check:NanoStringDiff.install-out.txt --library=/home/biocbuild/bbs-3.21-bioc/R/site-library --timings NanoStringDiff_1.38.0.tar.gz StartedAt: 2025-10-16 01:35:56 -0400 (Thu, 16 Oct 2025) EndedAt: 2025-10-16 01:37:55 -0400 (Thu, 16 Oct 2025) EllapsedTime: 119.4 seconds RetCode: 0 Status: WARNINGS CheckDir: NanoStringDiff.Rcheck Warnings: 1