Package: NanoStringDiff Version: 1.38.0 Command: /home/biocbuild/bbs-3.21-bioc/R/bin/R CMD build --keep-empty-dirs --no-resave-data NanoStringDiff StartedAt: 2025-10-15 18:48:44 -0400 (Wed, 15 Oct 2025) EndedAt: 2025-10-15 18:49:02 -0400 (Wed, 15 Oct 2025) EllapsedTime: 18.0 seconds RetCode: 0 Status: OK PackageFile: NanoStringDiff_1.38.0.tar.gz PackageFileSize: 417.4 KiB