Package: NanoStringDiff Version: 1.38.0 Command: /Library/Frameworks/R.framework/Resources/bin/R CMD INSTALL NanoStringDiff StartedAt: 2025-10-13 15:26:40 -0400 (Mon, 13 Oct 2025) EndedAt: 2025-10-13 15:27:14 -0400 (Mon, 13 Oct 2025) EllapsedTime: 33.3 seconds RetCode: 0 Status: OK