Package: NanoStringDiff Version: 1.38.0 Command: /Library/Frameworks/R.framework/Resources/bin/R CMD build --keep-empty-dirs --no-resave-data NanoStringDiff StartedAt: 2025-10-13 21:03:30 -0400 (Mon, 13 Oct 2025) EndedAt: 2025-10-13 21:04:18 -0400 (Mon, 13 Oct 2025) EllapsedTime: 47.7 seconds RetCode: 0 Status: OK PackageFile: NanoStringDiff_1.38.0.tar.gz PackageFileSize: 415.7 KiB