Package: NanoStringDiff Version: 1.38.0 Command: rm -rf NanoStringDiff.buildbin-libdir && mkdir NanoStringDiff.buildbin-libdir && /Users/biocbuild/BBS/utils/build-universal.sh NanoStringDiff_1.38.0.tar.gz /Library/Frameworks/R.framework/Resources/bin/R NanoStringDiff.buildbin-libdir StartedAt: 2025-10-14 14:14:29 -0400 (Tue, 14 Oct 2025) EndedAt: 2025-10-14 14:15:00 -0400 (Tue, 14 Oct 2025) EllapsedTime: 30.4 seconds RetCode: 0 Status: OK PackageFile: NanoStringDiff_1.38.0.tgz PackageFileSize: 470.2 KiB