Package: NanoStringDiff Version: 1.38.0 Command: /home/biocbuild/R/R/bin/R CMD INSTALL NanoStringDiff StartedAt: 2025-10-13 20:26:18 -0000 (Mon, 13 Oct 2025) EndedAt: 2025-10-13 20:26:31 -0000 (Mon, 13 Oct 2025) EllapsedTime: 13.8 seconds RetCode: 0 Status: OK